BEGIN:VCALENDAR
VERSION:2.0
PRODID:-//WEDA//BasicICS//RO
CALSCALE:GREGORIAN
METHOD:PUBLISH
BEGIN:VEVENT
UID:weda-991-c5e08e30a53334b95c25095cd03faeb4@wedaevents.com
SUMMARY:Mopao Kiz Festival
DTSTART;VALUE=DATE:20260122
DTEND;VALUE=DATE:20260127
LOCATION:Gothenburg Västra Götaland County SE
URL:https://wedaevents.com/?weda_event=mopao-kiz-festival
DESCRIPTION:🔥 MOPAO KIZ FESTIVAL 🔥\n📅 22nd – 26th January 2026\n📍 Gothenburg\, Sweden\nGet ready for the second edition of Mopao Kiz Festival in Gothenburg\, Sweden! A festival of opportunities\, created by talented individuals bringing fresh energy to the Kizomba scene. Expect rising stars\, top artists\, and an unforgettable experience!\n⸻\n🎶 MUSIC STYLES 🎶\n• Urban Kiz\n• Tarraxo\n• Ghetto Zouk\n• Douceur\n• Kizomba &amp\; Semba\n• Afrobeat\n⸻\n🎟 FULL PASS 🎟\n• Early Bird – 950 SEK (€85)\n• From 27th March – 1000 SEK (€90)\n• From 27th May – 1100 SEK (€99)\n• From 27th July – 1200 SEK (€108)\n• From 27th September – 1300 SEK (€118)\n• From 27th November – 1400 SEK (€127)\n• From 17th January – 1500 SEK (€136)\n💃 Couple Pass: 300 SEK (€27) discount per couple\n🎟 Tickets: https://dancevida.se/mopao-kiz-festival/\n(You can pay now direct with card in euros or get an Invoice in Sek)\\n\\nMore info: https://wedaevents.com/?weda_event=mopao-kiz-festival
END:VEVENT
END:VCALENDAR
