BEGIN:VCALENDAR
VERSION:2.0
PRODID:-//WEDA//BasicICS//RO
CALSCALE:GREGORIAN
METHOD:PUBLISH
BEGIN:VEVENT
UID:weda-988-cf0bd77c978bae1d59d1b644d8eec19d@wedaevents.com
SUMMARY:11th Suave Dance Festival
DTSTART;VALUE=DATE:20260123
DTEND;VALUE=DATE:20260127
LOCATION:1 Av. de la République Bagnolet
URL:https://wedaevents.com/?weda_event=11th-suave-dance-festival
DESCRIPTION:SUAVE DANCE FESTIVAL PARIS❤️\n___________ 11th EDITION __________\n🎈ALL IN ONE VENUE FESTIVAL🎈\n\n🌠 When the Sky Falls 🌠\n🌠 We Dance Among the Stars 🌠\nWill you be there?\n👉"I will be there" frame:\nhttps://twibbo.nz/suave11\nIn the heart of winter and ❄ beneath the étoilé 💫⭐ glow of the Eiffel Tower\, as the milky way 🌌 stars descend upon Paris 🇫🇷\, the city transforms into a dancefloor where gravity 🌍 fades and rhythm takes control 🪘. SUAVE: Skyfall Edition is more than a festival – it’s an interstellar journey ☄ where matter becomes smooth energy\, and every step feels like floating through the cosmos 🌌. Under the sky 🌃 the chaloupé of Kizomba\, the pulse of Urban Kizomba\, the magnetic waves of Tarraxo and a gentle touch of afrobeats create a gravitational force that pulls us together. Wrapped in the lumineux glow 🌟 of the City of Light\, we surrender to the beat\, losing ourselves in the magic of the night and the never-ending enjoyment of its mystical connections. In this galactique gathering of dancers from around the world 🌐🗺\, we don’t just follow the music – we become it. The Seine 💦 reflects the falling stars 🌠\, and the dancefloor becomes our universe. This is where we rise\, where we let go\, where we feel the infinite and healing energy of dancing.🕺💃\n💫 The sky is falling 💫\n💫 The stars are calling💫\n💫 Will you rise with us? 💫\n📅 23rd - 26th January 2026 | Paris | Novotel Paris Est | ALL-IN-ONE\n🔹 Kizomba | Urban Kizomba\n🎫 Secure your place among the stars\n\n&nbsp\;\n\n———\n👉"I will be there" frame:\nhttps://twibbo.nz/suave11\n👉Dates:\nFriday\, 23.01.2026 - Monday\, 26.01.2026\n👉Venue:\nNovotel Paris Est (4 Stars Hotel)\n1 Avenue de la Republique\, 93170 Bagnolet\n\n📩❗️OFFCIAL E-MAIL ADRESS❗️📩\nsuavedancefestival@gmail.com\n🙏🏻 PLEASE USE ONLY THIS COMMUNICATION CHANNEL 🙏🏻\n\n🎀🎀🎀 GUESTS 🎀🎀🎀 (more coming...)\n🎀 Trécy (Meninos Do Semba)\n\n👉"I will be there" frame:\nhttps://twibbo.nz/suave11\\n\\nMore info: https://wedaevents.com/?weda_event=11th-suave-dance-festival
END:VEVENT
END:VCALENDAR
