BEGIN:VCALENDAR
VERSION:2.0
PRODID:-//WEDA//BasicICS//RO
CALSCALE:GREGORIAN
METHOD:PUBLISH
BEGIN:VEVENT
UID:weda-985-ff3bd7168aa16b5a58bcb580bf60e1f4@wedaevents.com
SUMMARY:Latin Festival Würzburg
DTSTART;VALUE=DATE:20260123
DTEND;VALUE=DATE:20260127
LOCATION:1 Residenzpl. Altstadt
URL:https://wedaevents.com/?weda_event=latin-festival-wurzburg
DESCRIPTION:Bailamos Würzburg invites you to the Latin Festival in Würzburg at the B. Neumann Restaurant in the Residence.\nA historic venue with fantastic dancers\, perfect line-up\, with the best national / international instructors and professional DJs makes this event not only the biggest in the region\, but also an unforgettable experience.\nThe earlier you book\, the cheaper the tickets. You want to support the festival?\\n\\nMore info: https://wedaevents.com/?weda_event=latin-festival-wurzburg
END:VEVENT
END:VCALENDAR
