BEGIN:VCALENDAR
VERSION:2.0
PRODID:-//WEDA//BasicICS//RO
CALSCALE:GREGORIAN
METHOD:PUBLISH
BEGIN:VEVENT
UID:weda-978-ea31ede84e6a415337c14f26de61f9e4@wedaevents.com
SUMMARY:Weekend SBK Center Parcs – 16ème Edition
DTSTART;VALUE=DATE:20260123
DTEND;VALUE=DATE:20260126
LOCATION:2801 La Motte Chaumont-sur-Tharonne
URL:https://wedaevents.com/?weda_event=weekend-sbk-center-parcs-16eme-edition
DESCRIPTION:“CENTER PARCS WEEKEND 2026 – SALSA\, BACHATA\, KIZOMBA” (16th Edition – Don’t Miss It!)\nA true “SBK” event: 33% salsa\, 33% bachata\, 33% kizomba with national and international artists and the hottest DJs.\nHighly anticipated weekend! From January 23rd to 25th\, 2026. Over the weekend you’ll find:\n\nDance classes for salsa\, bachata and kizomba\n\nParties going till dawn with non-stop animations\n\nJacuzzis\, heated pool\, slides\, swimming and lots of fun\n\nAnd more surprises they haven’t announced yet\n\nFor this 16th edition:\n\nCheck-in at Center Parcs on Friday from 5 PM for those staying in the park. Wristbands for others from 8:45 PM at the nearby Tharonne space.\n\nFree aperitif for the first 50 people on Friday night\n\nHuge dance floor\n\nTeam of taxi dancers\n\nFree organized and supervised cloakroom\n\nBar at your disposal\n\nSBK evenings\n\nClasses morning\, afternoon and evening\n\nLoads of other surprises – it’ll be a crazy weekend!\n\nTeachers: Giorgio Rod (Bachata Mix Style\, Cuban salsa)\; Alex &amp\; Tiphaine (Salsa Suelta and Rueda de Casino)\; Franck &amp\; Laure de Rouen (Cuban/Portorican salsa)\; Fred Maestro (Urbankiz)\; Ludivine Ludidanse (Lady styling\, heels)\, etc.\nDJs: DJ Giorgio Rod\, DJ Alex Salserito\, DJ Tagada\nDress code: Friday – Disco theme\; Saturday – Casino Royale theme\nPhotographer: Olivier “Oxyde”\n\n&nbsp\;\\n\\nMore info: https://wedaevents.com/?weda_event=weekend-sbk-center-parcs-16eme-edition
END:VEVENT
END:VCALENDAR
