BEGIN:VCALENDAR
VERSION:2.0
PRODID:-//WEDA//BasicICS//RO
CALSCALE:GREGORIAN
METHOD:PUBLISH
BEGIN:VEVENT
UID:weda-975-046f2ba9550ff9e968f1b478f70184f6@wedaevents.com
SUMMARY:BIG3FESTIVAL
DTSTART;VALUE=DATE:20260123
DTEND;VALUE=DATE:20260126
LOCATION:Congress Center\, Hamburg\, Germany
URL:https://wedaevents.com/?weda_event=big3festival
DESCRIPTION:Get ready for an unforgettable dance experience with some of the top international artists and DJs! 🌍💃🕺 Featuring KIZOMBA\, BACHATA\, and SALSA\, with world-class instructors\, spectacular shows\, epic parties\, and a vibrant dance community from all over the world. 🎟 Secure your ticket now at www.big3festival.com🔥💥\\n\\nMore info: https://wedaevents.com/?weda_event=big3festival
END:VEVENT
END:VCALENDAR
