BEGIN:VCALENDAR
VERSION:2.0
PRODID:-//WEDA//BasicICS//RO
CALSCALE:GREGORIAN
METHOD:PUBLISH
BEGIN:VEVENT
UID:weda-972-8f8f59332f4202d1cc5a1fed8674cc8c@wedaevents.com
SUMMARY:12° edizione Firenze Kizomba Salsa e Bachata Festival
DTSTART;VALUE=DATE:20260123
DTEND;VALUE=DATE:20260126
LOCATION:3 Via Vittorio Emanuele Calenzano
URL:https://wedaevents.com/?weda_event=12-edizione-firenze-kizomba-salsa-e-bachata-festival
DESCRIPTION:Three intense days with over 45 hours of workshops in kizomba\, semba\, urban kiz\, tarraxo\, douceur\, kizomba fusion\, Cuban salsa\, Puerto Rican salsa\, bachata and Latin Hustle.\n✴ 5 rooms for classes\n✴ Team of taxi dancers\n✴ Social room\n✴ Two party nights across 4 rooms: Kizomba\, Bachata\, Cuban Salsa\, Puerto Rican Salsa and Latin Hustle\n✴ Top DJs\n✴ Top artists\n✴ Shows\n✴ 36 hours of social dancing\n✴ Close to the center of Florence\n\n✨ 12th edition of the Firenze Kizomba Salsa &amp\; Bachata Festival 2025 ✨\nJanuary 23–25\, 2026\nInternational dance congress in Tuscany.\n⚜ Firenze KSB Festival ⚜\nHere’s what you’ll find:\n💥 A kizomba festival covering all styles and genres from the newest to the roots\, plus salsa and bachata with dedicated rooms\n💥 A family atmosphere\n💥 International line-up\n💥 Themed events exploring Florence and its wonders\, from wine to art\n💥 African cuisine\n💥 Themed evenings across 4 dance floors\n💥💥 All in one hotel 💥💥\nALL IN ONE\\n\\nMore info: https://wedaevents.com/?weda_event=12-edizione-firenze-kizomba-salsa-e-bachata-festival
END:VEVENT
END:VCALENDAR
