BEGIN:VCALENDAR
VERSION:2.0
PRODID:-//WEDA//BasicICS//RO
CALSCALE:GREGORIAN
METHOD:PUBLISH
BEGIN:VEVENT
UID:weda-814-f049c02f79bf0b74dd4e96e3140e0b12@wedaevents.com
SUMMARY:Exodus Kizomba Congress &#8211\; Warsaw IV Edition
DTSTART;VALUE=DATE:20260128
DTEND;VALUE=DATE:20260204
LOCATION:Warsaw Warsaw Masovian Voivodeship
URL:https://wedaevents.com/?weda_event=exodus-kizomba-congress-warsaw-iv-edition
DESCRIPTION:🎉 Exodus Kizomba Congress is back\, and this edition our amazing lineup will take your dance experience to the next level!🔥\n\n🔗 Tickets &amp\; hotel booking: https://www.billetweb.fr/exodus-kizomba-congress-iv-edition\n Where every step leads you into a world of connection\, passion\, and unforgettable energy ❤️\n\n🥰 More than a festival - it’s a place to connect\, learn\, and grow with a community that feels like family.\n\n🔥 For dancers of all levels: From inspiring workshops to unforgettable dance sessions\, meet incredible artists and create memories with fellow dance lovers!\n\n✅ This edition promises even more magic\, creativity\, and energy - you won’t want to miss it.\n\n🔥 Event link: https://fb.me/e/5eRgrNztF\n\n📍 Exodus Kizomba Congress - Warsaw IV Edition\n🗓️ Date: January 28th - February 3rd\, 2026\n🏨 ALL-IN-ONE\nℹ️ Learn more and discover all the details!\n🔗 https://linktr.ee/exoduskizombacongress\n\nJoin the X ❤️ and let’s dance together!\\n\\nMore info: https://wedaevents.com/?weda_event=exodus-kizomba-congress-warsaw-iv-edition
END:VEVENT
END:VCALENDAR
