BEGIN:VCALENDAR
VERSION:2.0
PRODID:-//WEDA//BasicICS//RO
CALSCALE:GREGORIAN
METHOD:PUBLISH
BEGIN:VEVENT
UID:weda-799-0c750249323e751e0cc36fe3d2b5fd10@wedaevents.com
SUMMARY:THE WEEKEND 2026 &#8211\; BCN Sensual Family
DTSTART;VALUE=DATE:20260303
DTEND;VALUE=DATE:20260310
LOCATION:Meliá Lloret de Mar\, Spain
URL:https://wedaevents.com/?weda_event=the-weekend-2026-bcn-sensual-family
DESCRIPTION:~ SPANISH ~\n\nApreciada Family\, no estábamos de vacaciones… trabajando en silencio para dar lo mejor de nosotros en lo que se viene este 2026 💃🔥💝\n\nArrancamos con la actualización del flyer general …\n\n🔥 The Weekend 2026 🔥\n\nThe Best Social of the World…\n\nYa tenemos aquí el primer line up del evento que nos cambió la vida y el concepto de vivirla a todos…\n\nRepetimos todo en un mismo Resort ‼️‼️‼️\n\nHotel Meliá 5* &amp\; Gran Casino Costa Brava 🎁\n\nUna ubicación e infraestructura gran lujo para el público más exigente y querido 💝\n\n6 días y 6 noches de auténtica locura\nSocial non stop\nWorkshops &amp\; Master Class\nShows &amp\; Competición UDC &amp\; Jack Jill\nPool Party\nShutles AirPort\nY mucho mucho más…\n\nTraslado y transporte de hoteles secundarios en autobús lanzadera para la mayor comodidad 🎁\n\n~ ENGLISH ~\n\nDear Family\, we weren't on vacation... working silently to give our best for what's coming in 2026 💃🔥💝\n\nWe're starting with the update of the general flyer...\n\n🔥 The Weekend 2026 🔥\n\nThe Best Social of the World...\n\nWe've finally got the first lineup for the event that changed our lives and the concept of living it for all of us...\n\nWe're doing it all again in one resort ‼️‼️‼️\n\nMeliá 5* Hotel &amp\; Gran Casino Costa Brava 🎁\n\nA luxurious location and infrastructure for the most demanding and beloved audience 💝\n\n6 days and 6 nights of true madness\nNon-stop socializing\nWorkshops &amp\; Masterclasses\nShows &amp\; Competitions UDC &amp\; Jack Jill\nPool Party\nAirPort Shuttles\nAnd much\, much more...\n\nTransfers and transportation from secondary hotels by bus Shuttle service for maximum convenience 🎁\\n\\nMore info: https://wedaevents.com/?weda_event=the-weekend-2026-bcn-sensual-family
END:VEVENT
END:VCALENDAR
