BEGIN:VCALENDAR
VERSION:2.0
PRODID:-//WEDA//BasicICS//RO
CALSCALE:GREGORIAN
METHOD:PUBLISH
BEGIN:VEVENT
UID:weda-797-14d93cfab05cb5522082f7578d8660d4@wedaevents.com
SUMMARY:KIM &#8211\; KIZOMBA INTERNATIONAL MADRID 2026
DTSTART;VALUE=DATE:20260313
DTEND;VALUE=DATE:20260317
LOCATION:Isla Garena Resort\, Spain
URL:https://wedaevents.com/?weda_event=kim-kizomba-international-madrid-2026
DESCRIPTION:(SPA)\n¡¡VUELVE EL KIM!!\nLos días 13-16 de Marzo 2026 vuelve el KIM (Kizomba International Madrid)\, en Madrid.\n********** PROFESORES ********\nFred-Nelson &amp\; Morgane (Francia)\nJP &amp\; Stephy (Francia)\nVal'R &amp\; Sarah (Francia)\nJack &amp\; Sara (Valencia)\nJesús &amp\; Anni (Madrid)\nLuis &amp\; Karen (Madrid)\nLety &amp\; Dani (Madrid)\nKeco &amp\; Moni (Madrid)\nLuismi &amp\; Angeles (Madrid)\nMarisa &amp\; Jorge (Madrid)\nJavi &amp\; Belén (Madrid)\nRodri &amp\; Elena (Burgos)\nKevin (Madrid)\nAlberto &amp\; Paula (Madrid)\nYoel &amp\; Aris (Extremadura)\nDj Lucas (Portugal)\nDj Neo (Madrid)\nDj Jack (Valencia)\nDj Kot (Madrid)\nDj Eclipse (Valencia)\nDj Extrem (Madrid)\nDj Angelika (Madrid)\n***** HORARIOS (todo el evento se celebrará en el Hotel sede Isla de la Garena ***\nJUEVES (Pre-Party Sala 7 Rosas\, Torrejón de Ardoz)\n21:30h-22:30h Workshop\n22:30h-02:30h Social\nVIERNES\n17-21h Talleres\n18h-21h Social Kizomba\n23-24h Taller nocturno\n00-05h Fiesta Kizomba\nSÁBADO\n11-19h Talleres\n16:30-20h Social de Kizomba\n23h-00h Workshop\n00-06h Fiesta Kizomba\nDOMINGO\n11-15h Talleres\n12h-20h Social\n22:30h-23:30h Workhop\n23:30h-04h Social\n***** PRECIOS ****\nOferta de lanzamiento:\n2 FP x 120€\n65€ (50 Full Pass)\n70€ (50 Full Pass)\n80€ (100 Full Pass)\n90€ (100 Full Pass)\n100€ (100 Full Pass)\n110€ (en puerta)\nPRECIOS EN PUERTA:\nViernes completo (talleres + sociales + noche): 40€\nViernes noche (con o sin taller): 20€ por persona en puerta.\nAnticipado\, 30€ (2 entradas\, 1 Leader + 1 Follower)\nSábado completo (talleres + sociales + noche): 50€\nSábado noche (con o sin taller): 30€ por persona.\nAnticipado\, 40€ (2 entradas\, para 1 Follower + 1 Leader)\nDomingo (social + talleres): 40€\nDomingo noche (con o sin taller): 10€ por persona\nCompra con tus profesores o también aquí:\nhttps://lasalsadelbaile.com/Kim\n*HOTEL SEDE*\nTodo el evento se realizará en el Hotel Isla de La Garena\, en Alcalá de Henares.\nSolo se pueden coger packs de hotel + Full Pass.\nMínimo 3 noches.\nNo se puede reservar una noche. Link de reserva:\nhttps://lasalsadelbaile.com/Kim\nInfo WhatsApp Hotel sede: +34 623 036 638\n* INFORMACIÓN EVENTO (no hotel)*\nVia WhatsApp: +34 636 087 027\n***********\n(ENG)\n¡¡KIM MADRID IS BACK!!\nHere you are KIM (Kizomba International Madrid)\, from 13-16th\, March 2026\, in "Isla de la Garena" Hotel\, in Alcalá de Henares (Madrid).\n********** LINE-UP ********\nFred-Nelson &amp\; Morgane (France)\nJP &amp\; Stephy (France)\nVal`R &amp\; Sarah (France)\nJack &amp\; Sara (Spain)\nJesús &amp\; Anni (Madrid)\nLuis &amp\; Karen (Madrid)\nLety &amp\; Dani (Madrid)\nKeco &amp\; Moni (Madrid)\nLuismi &amp\; Angeles (Spain)\nMarisa &amp\; Jorge (Madrid)\nJavi &amp\; Belén (Madrid)\nKevin (Madrid)\nAlberto &amp\; Paula (Madrid)\nDj Lucas (Portugal)\nDj Neo (Madrid)\nDj Jack (Valencia)\nDj Kot (Madrid)\nDj Nono (Madrid)\nDj Eclipse (Valencia)\n************* SCHEDULE *******\nFRIDAY\n16h-21h - Workshops and social dance.\n23h-24h - Workshop\n24-05:30h - Kizomba Party.\nSATURDAY\n10-19h - Workshops\n16h-20h -Workshops + Social Dance\n23h-24h - Workshop\n24-06h - Kizomba Party\nDOMINGO\n11h-14h - Workshops\n12h-20h Social Dance\n22h-23h Workshop\n23h-04h Party\n************* PRICES ********\nFull pass:\n60€ (only 50 fp)\n70€ (100 Full Pass)\n80€ (100 Full Pass)\n90€ (100 Full Pass)\n100€ (at the door)\nBuy your full pass here:\nhttps://lasalsadelbaile.com/Kim?idioma=en&amp\;idioma=es\n******** MAIN HOTEL *******\nAll the event will be in "Isla de la Garena" Hotel\nHOTEL ISLA DE LA GARENA\nGalileo Galilei\, Street\, 18th\nAlcalá de Henares (Madrid)\nOnly pack Main hotel &amp\; Full pass. No singles rooms. 3 nights.\\n\\nMore info: https://wedaevents.com/?weda_event=kim-kizomba-international-madrid-2026
END:VEVENT
END:VCALENDAR
