BEGIN:VCALENDAR
VERSION:2.0
PRODID:-//WEDA//BasicICS//RO
CALSCALE:GREGORIAN
METHOD:PUBLISH
BEGIN:VEVENT
UID:weda-783-79dd689b2dbf2fbef35c3f41ec6e34fb@wedaevents.com
SUMMARY:Hot Tropical Dance Málaga 2026
DTSTART;VALUE=DATE:20260408
DTEND;VALUE=DATE:20260414
LOCATION:Hotel IPV Palace & Spa\, Fuengirola\, Spain
URL:https://wedaevents.com/?weda_event=hot-tropical-dance-malaga-2026
DESCRIPTION:✨ Imagine waking up with the Mediterranean Sea at your window… Every single room at our official festival hotel offers a breathtaking sea view 🌊☀️.\n\nThis is where the magic of Hot Tropical Dance Málaga begins 💃🏽🔥. Just step outside and you’re on the beach\, step inside and you’re surrounded by dancers\, music\, and endless tropical vibes 🌴🎶.\n\nThe hotel isn’t just a place to stay – it’s the heart of the festival\, where workshops\, socials\, and unforgettable nights flow straight into the sunrise over the sea 🌅.\n\n📍 Málaga\, Mediterranean front-row\n🛏️ All rooms = sea view\n💃🏽 The official Hot Tropical Dance experience\n\nAre you ready to wake up in paradise and dance until the sun rises again?\\n\\nMore info: https://wedaevents.com/?weda_event=hot-tropical-dance-malaga-2026
END:VEVENT
END:VCALENDAR
