BEGIN:VCALENDAR
VERSION:2.0
PRODID:-//WEDA//BasicICS//RO
CALSCALE:GREGORIAN
METHOD:PUBLISH
BEGIN:VEVENT
UID:weda-1004-0274365bab6e9f5451dba3b89120469b@wedaevents.com
SUMMARY:Fever Bachata Zaragoza Congress 2026
DTSTART;VALUE=DATE:20260227
DTEND;VALUE=DATE:20260302
LOCATION:hotel Diagonal plaza en Zaragoza
URL:https://wedaevents.com/?weda_event=fever-bachata-zaragoza-congress-2026
DESCRIPTION:Fever Bachata Zaragoza Congress 2026 (Animagic Edition)\n\nWelcome to Fever Bachata Zaragoza Congress 2026\n\nThe entire event will take place at the Diagonal Plaza Hotel in Zaragoza\, from Friday to Sunday (February 27 to March 1)\\n\\nMore info: https://wedaevents.com/?weda_event=fever-bachata-zaragoza-congress-2026
END:VEVENT
END:VCALENDAR
