BEGIN:VCALENDAR
VERSION:2.0
PRODID:-//WEDA//BasicICS//RO
CALSCALE:GREGORIAN
METHOD:PUBLISH
BEGIN:VEVENT
UID:weda-1001-df6ff9a09bc1de65640b8d4d9c778e05@wedaevents.com
SUMMARY:Mi Solar Salsa Festival
DTSTART;VALUE=DATE:20260520
DTEND;VALUE=DATE:20260528
LOCATION:Kalogria Beach\, Larissa\, Greece
URL:https://wedaevents.com/?weda_event=mi-solar-salsa-festival
DESCRIPTION:💃 MI SOLAR FESTIVAL – 4th Edition 💃\n📅 20–27 May 2026\n📍 Greece\nGet ready for 7 days of pure Cuban vibes — music\, dance\, sunshine\, and unforgettable connections! 🌴☀️\n✨ What’s waiting for you this year?\nNew international artists joining Mi Solar for the very first time\nSpecial Bootcamps:\n🔥 Yusimi Moya – Afro Master Bootcamp\n💃 Royma Rodríguez – Lady Style Bootcamp (technique &amp\; style)\nDaily workshops\, pool parties &amp\; beach vibes\nEpic night parties with DJs &amp\; live music\nA community full of energy\, laughter &amp\; spontaneous moments\n⚡ Important: Last year we SOLD OUT by February! Don’t wait too long – secure your spot early.\n🎟️ Registration is NOW OPEN\n👉 Book here: www.misolarfestival.com\nCome dance\, connect\, and celebrate life with us at the 4th Edition of Mi Solar Festival in Greece!\nWe can’t wait to welcome you back — or for the very first time. 💛\n\nIntroducing Mi Solar – the ultimate Cuban salsa festival! Get ready for an exhilarating week of world-class classes\, electrifying parties\, and unforgettable experiences\, all infused with a warm\, family-friendly atmosphere. Join us as we celebrate the vibrant rhythms of Cuban music and culture\, bringing together people from all over the world. And guess what? We’ve got secret room parties\, beach bashes\, and surprises you won’t want to miss. Get ready for an unforgettable journey – Mi Solar is where the magic happens!\n\nPrepare yourself for the ultimate dance experience! A festival where every dancer stays in sync and never misses a beat. Immerse yourself in awe-inspiring programs and workshops that’ll leave your head spinning! It’s a family-friendly event where everyone can groove together. And the best part? It’s all-inclusive\, so you won’t miss a single moment. Our top-quality hotel will make you feel like a VIP\, with beds so cozy\, you’ll dream of dancing. Delight in delicious food that’ll make your taste buds dance with joy. Plus\, the stunning sunset view from the beach will take your breath away. Get ready to dance your heart out at our live concert\, where the music never stops. And the cherry on top? We’re always coming up with more incredible surprises! Welcome to our unique atmosphere\, where the rhythm is endless and the fun never ends!\\n\\nMore info: https://wedaevents.com/?weda_event=mi-solar-salsa-festival
END:VEVENT
END:VCALENDAR
